BEGIN:VCALENDAR
VERSION:2.0
PRODID:-//Expertgroep Ontwikkelingsvoorsprong - ECPv6.15.20//NONSGML v1.0//EN
CALSCALE:GREGORIAN
METHOD:PUBLISH
X-WR-CALNAME:Expertgroep Ontwikkelingsvoorsprong
X-ORIGINAL-URL:https://expertgroepontwikkelingsvoorsprong.nl
X-WR-CALDESC:Evenementen voor Expertgroep Ontwikkelingsvoorsprong
REFRESH-INTERVAL;VALUE=DURATION:PT1H
X-Robots-Tag:noindex
X-PUBLISHED-TTL:PT1H
BEGIN:VTIMEZONE
TZID:Europe/Amsterdam
BEGIN:DAYLIGHT
TZOFFSETFROM:+0100
TZOFFSETTO:+0200
TZNAME:CEST
DTSTART:20240331T010000
END:DAYLIGHT
BEGIN:STANDARD
TZOFFSETFROM:+0200
TZOFFSETTO:+0100
TZNAME:CET
DTSTART:20241027T010000
END:STANDARD
BEGIN:DAYLIGHT
TZOFFSETFROM:+0100
TZOFFSETTO:+0200
TZNAME:CEST
DTSTART:20250330T010000
END:DAYLIGHT
BEGIN:STANDARD
TZOFFSETFROM:+0200
TZOFFSETTO:+0100
TZNAME:CET
DTSTART:20251026T010000
END:STANDARD
BEGIN:DAYLIGHT
TZOFFSETFROM:+0100
TZOFFSETTO:+0200
TZNAME:CEST
DTSTART:20260329T010000
END:DAYLIGHT
BEGIN:STANDARD
TZOFFSETFROM:+0200
TZOFFSETTO:+0100
TZNAME:CET
DTSTART:20261025T010000
END:STANDARD
END:VTIMEZONE
BEGIN:VEVENT
DTSTART;TZID=Europe/Amsterdam:20251113T200000
DTEND;TZID=Europe/Amsterdam:20251113T200000
DTSTAMP:20260423T194914
CREATED:20250424T170218Z
LAST-MODIFIED:20250703T122111Z
UID:11280-1763064000-1763064000@expertgroepontwikkelingsvoorsprong.nl
SUMMARY:Inspiratiebijeenkomst voor opvang
DESCRIPTION:Inspiratiebijeenkomst: een inspirerende bijeenkomst van een uur waarin je kennis maakt met het onderwerp en praktische tips krijgt voor de praktijk. Iedereen is hier welkom. De zoomlink wordt vooraf gemaild. \nEen ieder is van harte welkom\, aanmelden is mogelijk via: https://expertgroepontwikkelingsvoorsprong.nl/inspiratiesessies/
URL:https://expertgroepontwikkelingsvoorsprong.nl/bijeenkomst/inspiratiebijeenkomst-voor-opvang-2/
LOCATION:Online
CATEGORIES:Inspiratiebijeenkomst
ORGANIZER;CN="Expertgroep Ontwikkelingsvoorsprong":MAILTO:info@expertgroepontwikkelingsvoorsprong.nl
END:VEVENT
BEGIN:VEVENT
DTSTART;TZID=Europe/Amsterdam:20251014T160000
DTEND;TZID=Europe/Amsterdam:20251014T170000
DTSTAMP:20260423T194914
CREATED:20250424T154201Z
LAST-MODIFIED:20250703T122149Z
UID:11272-1760457600-1760461200@expertgroepontwikkelingsvoorsprong.nl
SUMMARY:Inspiratiesessie voor gemeente
DESCRIPTION:Inspiratiebijeenkomst: een inspirerende bijeenkomst van een uur waarin je kennis maakt met het onderwerp en praktische tips krijgt voor de praktijk. Iedereen is hier welkom. De zoomlink wordt vooraf gemaild. \nEen ieder is van harte welkom\, aanmelden is mogelijk via https://expertgroepontwikkelingsvoorsprong.nl/inspiratiesessies/
URL:https://expertgroepontwikkelingsvoorsprong.nl/bijeenkomst/inspiratiesessie-voor-gemeente/
LOCATION:Online
CATEGORIES:Inspiratiebijeenkomst
ORGANIZER;CN="Expertgroep Ontwikkelingsvoorsprong":MAILTO:info@expertgroepontwikkelingsvoorsprong.nl
END:VEVENT
BEGIN:VEVENT
DTSTART;TZID=Europe/Amsterdam:20250929T160000
DTEND;TZID=Europe/Amsterdam:20250929T170000
DTSTAMP:20260423T194914
CREATED:20250424T152906Z
LAST-MODIFIED:20250703T122853Z
UID:11268-1759161600-1759165200@expertgroepontwikkelingsvoorsprong.nl
SUMMARY:Inspiratiesessie voor begeleiding
DESCRIPTION:Inspiratiebijeenkomst: een inspirerende bijeenkomst van een uur waarin je kennis maakt met het onderwerp en praktische tips krijgt voor de praktijk. Iedereen is hier welkom. De zoomlink wordt vooraf gemaild. \nEen ieder is van harte welkom\, aanmelden is mogelijk via https://expertgroepontwikkelingsvoorsprong.nl/inspiratiesessies/
URL:https://expertgroepontwikkelingsvoorsprong.nl/bijeenkomst/inspiratiesessie-voor-begeleiding/
LOCATION:Online
CATEGORIES:Inspiratiebijeenkomst
ORGANIZER;CN="Expertgroep Ontwikkelingsvoorsprong":MAILTO:info@expertgroepontwikkelingsvoorsprong.nl
END:VEVENT
BEGIN:VEVENT
DTSTART;TZID=Europe/Amsterdam:20250528T160000
DTEND;TZID=Europe/Amsterdam:20250528T173000
DTSTAMP:20260423T194914
CREATED:20250421T214921Z
LAST-MODIFIED:20250703T123258Z
UID:11179-1748448000-1748453400@expertgroepontwikkelingsvoorsprong.nl
SUMMARY:Kennisbijeenkomst	Module 4 juf Sofie opzetten plusklas en dubbel bijzonder
DESCRIPTION:Uitzondering: Een ieder is van harte welkom! Aanmelden is mogelijk via https://expertgroepontwikkelingsvoorsprong.nl/inspiratiesessies/ \nKennisbijeenkomst: dit is een bijeenkomst van ongeveer anderhalf uur\, waarin we dieper ingaan op een onderwerp. Deze bijeenkomsten zijn voor de cursisten die een opleiding bij ons volgen. (met uitzondering van de basisopleiding). De zoomlink wordt vooraf gemaild. \nEen ieder is van harte welkom\, aanmelden is een maand voor agendering van de bijeenkomst mogelijk via https://expertgroepontwikkelingsvoorsprong.nl/inspiratiesessies/
URL:https://expertgroepontwikkelingsvoorsprong.nl/bijeenkomst/kennisbijeenkomstmodule-4-juf-sofie-opzetten-plusklas-en-dubbel-bijzonder/
LOCATION:Online
CATEGORIES:Inspiratiebijeenkomst,Kennisbijeenkomst
ORGANIZER;CN="Expertgroep Ontwikkelingsvoorsprong":MAILTO:info@expertgroepontwikkelingsvoorsprong.nl
END:VEVENT
BEGIN:VEVENT
DTSTART;TZID=Europe/Amsterdam:20250519T200000
DTEND;TZID=Europe/Amsterdam:20250519T210000
DTSTAMP:20260423T194914
CREATED:20250421T214622Z
LAST-MODIFIED:20250703T122304Z
UID:11175-1747684800-1747688400@expertgroepontwikkelingsvoorsprong.nl
SUMMARY:Inspiratiebijeenkomst voor opvang
DESCRIPTION:Inspiratiebijeenkomst: een inspirerende bijeenkomst van een uur waarin je kennis maakt met het onderwerp en praktische tips krijgt voor de praktijk. Iedereen is hier welkom. De zoomlink wordt vooraf gemaild. \nEen ieder is van harte welkom\, aanmelden is mogelijk via https://expertgroepontwikkelingsvoorsprong.nl/inspiratiesessies/
URL:https://expertgroepontwikkelingsvoorsprong.nl/bijeenkomst/inspiratiebijeenkomst-voor-opvang/
LOCATION:Online
CATEGORIES:Inspiratiebijeenkomst
ORGANIZER;CN="Expertgroep Ontwikkelingsvoorsprong":MAILTO:info@expertgroepontwikkelingsvoorsprong.nl
END:VEVENT
BEGIN:VEVENT
DTSTART;TZID=Europe/Amsterdam:20250514T090000
DTEND;TZID=Europe/Amsterdam:20250514T100000
DTSTAMP:20260423T194914
CREATED:20250421T213749Z
LAST-MODIFIED:20250703T123027Z
UID:11169-1747213200-1747216800@expertgroepontwikkelingsvoorsprong.nl
SUMMARY:Inspiratiebijeenkomst voor gemeente
DESCRIPTION:Inspiratiebijeenkomst: een inspirerende bijeenkomst van een uur waarin je kennis maakt met het onderwerp en praktische tips krijgt voor de praktijk. Iedereen is hier welkom. De zoomlink wordt vooraf gemaild. \nEen ieder is van harte welkom\, aanmelden is mogelijk via https://expertgroepontwikkelingsvoorsprong.nl/inspiratiesessies/
URL:https://expertgroepontwikkelingsvoorsprong.nl/bijeenkomst/inspiratiebijeenkomst-voor-gemeente/
LOCATION:Online
CATEGORIES:Inspiratiebijeenkomst
ORGANIZER;CN="Expertgroep Ontwikkelingsvoorsprong":MAILTO:info@expertgroepontwikkelingsvoorsprong.nl
END:VEVENT
BEGIN:VEVENT
DTSTART;TZID=Europe/Amsterdam:20250422T090000
DTEND;TZID=Europe/Amsterdam:20250422T100000
DTSTAMP:20260423T194914
CREATED:20250421T211946Z
LAST-MODIFIED:20250703T123122Z
UID:11162-1745312400-1745316000@expertgroepontwikkelingsvoorsprong.nl
SUMMARY:Inspiratiebijeenkomst voor begeleiding
DESCRIPTION:Inspiratiebijeenkomst: een inspirerende bijeenkomst van een uur waarin je kennis maakt met het onderwerp en praktische tips krijgt voor de praktijk. Iedereen is hier welkom. De zoomlink wordt vooraf gemaild. \nEen ieder is van harte welkom\, aanmelden is mogelijk via https://expertgroepontwikkelingsvoorsprong.nl/inspiratiesessies/
URL:https://expertgroepontwikkelingsvoorsprong.nl/bijeenkomst/inspiratiebijeenkomst-voor-begeleiding/
LOCATION:Online
CATEGORIES:Inspiratiebijeenkomst
ORGANIZER;CN="Expertgroep Ontwikkelingsvoorsprong":MAILTO:info@expertgroepontwikkelingsvoorsprong.nl
END:VEVENT
END:VCALENDAR