BEGIN:VCALENDAR
VERSION:2.0
PRODID:-//Expertgroep Ontwikkelingsvoorsprong - ECPv6.15.20//NONSGML v1.0//EN
CALSCALE:GREGORIAN
METHOD:PUBLISH
X-WR-CALNAME:Expertgroep Ontwikkelingsvoorsprong
X-ORIGINAL-URL:https://expertgroepontwikkelingsvoorsprong.nl
X-WR-CALDESC:Evenementen voor Expertgroep Ontwikkelingsvoorsprong
REFRESH-INTERVAL;VALUE=DURATION:PT1H
X-Robots-Tag:noindex
X-PUBLISHED-TTL:PT1H
BEGIN:VTIMEZONE
TZID:Europe/Amsterdam
BEGIN:DAYLIGHT
TZOFFSETFROM:+0100
TZOFFSETTO:+0200
TZNAME:CEST
DTSTART:20240331T010000
END:DAYLIGHT
BEGIN:STANDARD
TZOFFSETFROM:+0200
TZOFFSETTO:+0100
TZNAME:CET
DTSTART:20241027T010000
END:STANDARD
BEGIN:DAYLIGHT
TZOFFSETFROM:+0100
TZOFFSETTO:+0200
TZNAME:CEST
DTSTART:20250330T010000
END:DAYLIGHT
BEGIN:STANDARD
TZOFFSETFROM:+0200
TZOFFSETTO:+0100
TZNAME:CET
DTSTART:20251026T010000
END:STANDARD
BEGIN:DAYLIGHT
TZOFFSETFROM:+0100
TZOFFSETTO:+0200
TZNAME:CEST
DTSTART:20260329T010000
END:DAYLIGHT
BEGIN:STANDARD
TZOFFSETFROM:+0200
TZOFFSETTO:+0100
TZNAME:CET
DTSTART:20261025T010000
END:STANDARD
END:VTIMEZONE
BEGIN:VEVENT
DTSTART;TZID=Europe/Amsterdam:20251210T160000
DTEND;TZID=Europe/Amsterdam:20251210T173000
DTSTAMP:20260424T110904
CREATED:20250424T171334Z
LAST-MODIFIED:20250424T171334Z
UID:11285-1765382400-1765387800@expertgroepontwikkelingsvoorsprong.nl
SUMMARY:Kennisbijeenkomst Module 2 met IQ testen door Annelie Neuteboom
DESCRIPTION:Kennisbijeenkomst: dit is een bijeenkomst van ongeveer anderhalf uur\, waarin we dieper ingaan op een onderwerp. Deze bijeenkomsten zijn voor de cursisten die een opleiding bij ons volgen. (met uitzondering van de basisopleiding). De zoomlink wordt vooraf gemaild.
URL:https://expertgroepontwikkelingsvoorsprong.nl/bijeenkomst/kennisbijeenkomst-module-2-met-iq-testen-door-annelie-neuteboom/
LOCATION:Online
CATEGORIES:Kennisbijeenkomst
ORGANIZER;CN="Expertgroep Ontwikkelingsvoorsprong":MAILTO:info@expertgroepontwikkelingsvoorsprong.nl
END:VEVENT
BEGIN:VEVENT
DTSTART;TZID=Europe/Amsterdam:20251215T150000
DTEND;TZID=Europe/Amsterdam:20251215T170000
DTSTAMP:20260424T110904
CREATED:20251213T152115Z
LAST-MODIFIED:20251213T152227Z
UID:11619-1765810800-1765818000@expertgroepontwikkelingsvoorsprong.nl
SUMMARY:Kennisbijeenkomst: Gastspreker Marion van Zonneveld over Signaleren met de ontwikkelingsanamnese & misdiagnoses
DESCRIPTION:Marion van  Zonneveld\, kinder- en jeugdpsychiater\, gespecialiseerd  in psychiatrische en diagnostiek en behandeling bij (vermoedens  van) hoogbegaafdheid\, over signaleren met de ontwikkelingsanamnese en over misdiagnoses. \n  \nKennisbijeenkomst: dit is een bijeenkomst van ongeveer anderhalf uur\, waarin we dieper ingaan op een onderwerp. Deze bijeenkomsten zijn voor de cursisten die een opleiding bij ons volgen. (met uitzondering van de basisopleiding). De zoomlink wordt vooraf gemaild.
URL:https://expertgroepontwikkelingsvoorsprong.nl/bijeenkomst/kennisbijeenkomst-gastspreker-marion-van-zonneveld-over-signaleren-met-de-ontwikkelingsanamnese-misdiagnoses/
LOCATION:Online
CATEGORIES:Kennisbijeenkomst
ORGANIZER;CN="Expertgroep Ontwikkelingsvoorsprong":MAILTO:info@expertgroepontwikkelingsvoorsprong.nl
END:VEVENT
END:VCALENDAR