BEGIN:VCALENDAR
VERSION:2.0
PRODID:-//Expertgroep Ontwikkelingsvoorsprong - ECPv6.15.20//NONSGML v1.0//EN
CALSCALE:GREGORIAN
METHOD:PUBLISH
X-ORIGINAL-URL:https://expertgroepontwikkelingsvoorsprong.nl
X-WR-CALDESC:Evenementen voor Expertgroep Ontwikkelingsvoorsprong
REFRESH-INTERVAL;VALUE=DURATION:PT1H
X-Robots-Tag:noindex
X-PUBLISHED-TTL:PT1H
BEGIN:VTIMEZONE
TZID:Europe/Amsterdam
BEGIN:DAYLIGHT
TZOFFSETFROM:+0100
TZOFFSETTO:+0200
TZNAME:CEST
DTSTART:20240331T010000
END:DAYLIGHT
BEGIN:STANDARD
TZOFFSETFROM:+0200
TZOFFSETTO:+0100
TZNAME:CET
DTSTART:20241027T010000
END:STANDARD
BEGIN:DAYLIGHT
TZOFFSETFROM:+0100
TZOFFSETTO:+0200
TZNAME:CEST
DTSTART:20250330T010000
END:DAYLIGHT
BEGIN:STANDARD
TZOFFSETFROM:+0200
TZOFFSETTO:+0100
TZNAME:CET
DTSTART:20251026T010000
END:STANDARD
BEGIN:DAYLIGHT
TZOFFSETFROM:+0100
TZOFFSETTO:+0200
TZNAME:CEST
DTSTART:20260329T010000
END:DAYLIGHT
BEGIN:STANDARD
TZOFFSETFROM:+0200
TZOFFSETTO:+0100
TZNAME:CET
DTSTART:20261025T010000
END:STANDARD
END:VTIMEZONE
BEGIN:VEVENT
DTSTART;TZID=Europe/Amsterdam:20250528T160000
DTEND;TZID=Europe/Amsterdam:20250528T173000
DTSTAMP:20260425T020733
CREATED:20250421T214921Z
LAST-MODIFIED:20250703T123258Z
UID:11179-1748448000-1748453400@expertgroepontwikkelingsvoorsprong.nl
SUMMARY:Kennisbijeenkomst	Module 4 juf Sofie opzetten plusklas en dubbel bijzonder
DESCRIPTION:Uitzondering: Een ieder is van harte welkom! Aanmelden is mogelijk via https://expertgroepontwikkelingsvoorsprong.nl/inspiratiesessies/ \nKennisbijeenkomst: dit is een bijeenkomst van ongeveer anderhalf uur\, waarin we dieper ingaan op een onderwerp. Deze bijeenkomsten zijn voor de cursisten die een opleiding bij ons volgen. (met uitzondering van de basisopleiding). De zoomlink wordt vooraf gemaild. \nEen ieder is van harte welkom\, aanmelden is een maand voor agendering van de bijeenkomst mogelijk via https://expertgroepontwikkelingsvoorsprong.nl/inspiratiesessies/
URL:https://expertgroepontwikkelingsvoorsprong.nl/bijeenkomst/kennisbijeenkomstmodule-4-juf-sofie-opzetten-plusklas-en-dubbel-bijzonder/
LOCATION:Online
CATEGORIES:Inspiratiebijeenkomst,Kennisbijeenkomst
ORGANIZER;CN="Expertgroep Ontwikkelingsvoorsprong":MAILTO:info@expertgroepontwikkelingsvoorsprong.nl
END:VEVENT
END:VCALENDAR