BEGIN:VCALENDAR
VERSION:2.0
PRODID:-//Expertgroep Ontwikkelingsvoorsprong - ECPv6.15.20//NONSGML v1.0//EN
CALSCALE:GREGORIAN
METHOD:PUBLISH
X-ORIGINAL-URL:https://expertgroepontwikkelingsvoorsprong.nl
X-WR-CALDESC:Evenementen voor Expertgroep Ontwikkelingsvoorsprong
REFRESH-INTERVAL;VALUE=DURATION:PT1H
X-Robots-Tag:noindex
X-PUBLISHED-TTL:PT1H
BEGIN:VTIMEZONE
TZID:Europe/Amsterdam
BEGIN:DAYLIGHT
TZOFFSETFROM:+0100
TZOFFSETTO:+0200
TZNAME:CEST
DTSTART:20240331T010000
END:DAYLIGHT
BEGIN:STANDARD
TZOFFSETFROM:+0200
TZOFFSETTO:+0100
TZNAME:CET
DTSTART:20241027T010000
END:STANDARD
BEGIN:DAYLIGHT
TZOFFSETFROM:+0100
TZOFFSETTO:+0200
TZNAME:CEST
DTSTART:20250330T010000
END:DAYLIGHT
BEGIN:STANDARD
TZOFFSETFROM:+0200
TZOFFSETTO:+0100
TZNAME:CET
DTSTART:20251026T010000
END:STANDARD
BEGIN:DAYLIGHT
TZOFFSETFROM:+0100
TZOFFSETTO:+0200
TZNAME:CEST
DTSTART:20260329T010000
END:DAYLIGHT
BEGIN:STANDARD
TZOFFSETFROM:+0200
TZOFFSETTO:+0100
TZNAME:CET
DTSTART:20261025T010000
END:STANDARD
END:VTIMEZONE
BEGIN:VEVENT
DTSTART;TZID=Europe/Amsterdam:20250630T190000
DTEND;TZID=Europe/Amsterdam:20250630T200000
DTSTAMP:20260421T180044
CREATED:20250421T215111Z
LAST-MODIFIED:20250424T152307Z
UID:11183-1751310000-1751313600@expertgroepontwikkelingsvoorsprong.nl
SUMMARY:Vraagbijeenkomst
DESCRIPTION:Vraagbijeenkomst: we bespreken in deze bijeenkomst van een uur de vragen of casussen van elke deelnemer die wat wil inbrengen. \n  \nAl onze cursisten zijn hier welkom. De zoomlink wordt vooraf gemaild.
URL:https://expertgroepontwikkelingsvoorsprong.nl/bijeenkomst/vraagbijeenkomst-2/
LOCATION:Online
CATEGORIES:Vraagbijeenkomst
ORGANIZER;CN="Expertgroep Ontwikkelingsvoorsprong":MAILTO:info@expertgroepontwikkelingsvoorsprong.nl
END:VEVENT
END:VCALENDAR