BEGIN:VCALENDAR
VERSION:2.0
PRODID:-//Expertgroep Ontwikkelingsvoorsprong - ECPv6.15.20//NONSGML v1.0//EN
CALSCALE:GREGORIAN
METHOD:PUBLISH
X-WR-CALNAME:Expertgroep Ontwikkelingsvoorsprong
X-ORIGINAL-URL:https://expertgroepontwikkelingsvoorsprong.nl
X-WR-CALDESC:Evenementen voor Expertgroep Ontwikkelingsvoorsprong
REFRESH-INTERVAL;VALUE=DURATION:PT1H
X-Robots-Tag:noindex
X-PUBLISHED-TTL:PT1H
BEGIN:VTIMEZONE
TZID:Europe/Amsterdam
BEGIN:DAYLIGHT
TZOFFSETFROM:+0100
TZOFFSETTO:+0200
TZNAME:CEST
DTSTART:20240331T010000
END:DAYLIGHT
BEGIN:STANDARD
TZOFFSETFROM:+0200
TZOFFSETTO:+0100
TZNAME:CET
DTSTART:20241027T010000
END:STANDARD
BEGIN:DAYLIGHT
TZOFFSETFROM:+0100
TZOFFSETTO:+0200
TZNAME:CEST
DTSTART:20250330T010000
END:DAYLIGHT
BEGIN:STANDARD
TZOFFSETFROM:+0200
TZOFFSETTO:+0100
TZNAME:CET
DTSTART:20251026T010000
END:STANDARD
BEGIN:DAYLIGHT
TZOFFSETFROM:+0100
TZOFFSETTO:+0200
TZNAME:CEST
DTSTART:20260329T010000
END:DAYLIGHT
BEGIN:STANDARD
TZOFFSETFROM:+0200
TZOFFSETTO:+0100
TZNAME:CET
DTSTART:20261025T010000
END:STANDARD
BEGIN:DAYLIGHT
TZOFFSETFROM:+0100
TZOFFSETTO:+0200
TZNAME:CEST
DTSTART:20270328T010000
END:DAYLIGHT
BEGIN:STANDARD
TZOFFSETFROM:+0200
TZOFFSETTO:+0100
TZNAME:CET
DTSTART:20271031T010000
END:STANDARD
END:VTIMEZONE
BEGIN:VEVENT
DTSTART;TZID=Europe/Amsterdam:20260413T160000
DTEND;TZID=Europe/Amsterdam:20260413T170000
DTSTAMP:20260421T065143
CREATED:20250424T172712Z
LAST-MODIFIED:20250424T172712Z
UID:11307-1776096000-1776099600@expertgroepontwikkelingsvoorsprong.nl
SUMMARY:Vraagbijeenkomst
DESCRIPTION:Vraagbijeenkomst: we bespreken in deze bijeenkomst van een uur de vragen of casussen van elke deelnemer die wat wil inbrengen. \n  \nAl onze cursisten zijn hier welkom. De zoomlink wordt vooraf gemaild.
URL:https://expertgroepontwikkelingsvoorsprong.nl/bijeenkomst/vraagbijeenkomst-7/
LOCATION:Online
CATEGORIES:Vraagbijeenkomst
ORGANIZER;CN="Expertgroep Ontwikkelingsvoorsprong":MAILTO:info@expertgroepontwikkelingsvoorsprong.nl
END:VEVENT
BEGIN:VEVENT
DTSTART;TZID=Europe/Amsterdam:20260211T160000
DTEND;TZID=Europe/Amsterdam:20260211T170000
DTSTAMP:20260421T065143
CREATED:20250424T172243Z
LAST-MODIFIED:20250424T172243Z
UID:11299-1770825600-1770829200@expertgroepontwikkelingsvoorsprong.nl
SUMMARY:Werkbijeenkomst Module 3
DESCRIPTION:Werkbijeenkomst:  werkbijeenkomsten zijn alleen voor cursisten van de groepsopleiding. Ze duren anderhalf uur. De opdrachten uit het werkboek\, vragen en casussen worden besproken.
URL:https://expertgroepontwikkelingsvoorsprong.nl/bijeenkomst/werkbijeenkomst-module-3/
LOCATION:Online
CATEGORIES:Vraagbijeenkomst
ORGANIZER;CN="Expertgroep Ontwikkelingsvoorsprong":MAILTO:info@expertgroepontwikkelingsvoorsprong.nl
END:VEVENT
BEGIN:VEVENT
DTSTART;TZID=Europe/Amsterdam:20260205T190000
DTEND;TZID=Europe/Amsterdam:20260205T200000
DTSTAMP:20260421T065143
CREATED:20250424T172149Z
LAST-MODIFIED:20250424T172149Z
UID:11297-1770318000-1770321600@expertgroepontwikkelingsvoorsprong.nl
SUMMARY:Vraagbijeenkomst
DESCRIPTION:Vraagbijeenkomst: we bespreken in deze bijeenkomst van een uur de vragen of casussen van elke deelnemer die wat wil inbrengen. \n  \nAl onze cursisten zijn hier welkom. De zoomlink wordt vooraf gemaild.
URL:https://expertgroepontwikkelingsvoorsprong.nl/bijeenkomst/vraagbijeenkomst-6/
LOCATION:Online
CATEGORIES:Vraagbijeenkomst
ORGANIZER;CN="Expertgroep Ontwikkelingsvoorsprong":MAILTO:info@expertgroepontwikkelingsvoorsprong.nl
END:VEVENT
BEGIN:VEVENT
DTSTART;TZID=Europe/Amsterdam:20251217T090000
DTEND;TZID=Europe/Amsterdam:20251217T100000
DTSTAMP:20260421T065143
CREATED:20250424T171450Z
LAST-MODIFIED:20250424T171450Z
UID:11287-1765962000-1765965600@expertgroepontwikkelingsvoorsprong.nl
SUMMARY:Vraagbijeenkomst
DESCRIPTION:Vraagbijeenkomst: we bespreken in deze bijeenkomst van een uur de vragen of casussen van elke deelnemer die wat wil inbrengen. \n  \nAl onze cursisten zijn hier welkom. De zoomlink wordt vooraf gemaild.
URL:https://expertgroepontwikkelingsvoorsprong.nl/bijeenkomst/vraagbijeenkomst-5/
LOCATION:Online
CATEGORIES:Vraagbijeenkomst
ORGANIZER;CN="Expertgroep Ontwikkelingsvoorsprong":MAILTO:info@expertgroepontwikkelingsvoorsprong.nl
END:VEVENT
BEGIN:VEVENT
DTSTART;TZID=Europe/Amsterdam:20251104T190000
DTEND;TZID=Europe/Amsterdam:20251104T200000
DTSTAMP:20260421T065143
CREATED:20250424T165928Z
LAST-MODIFIED:20250424T165928Z
UID:11276-1762282800-1762286400@expertgroepontwikkelingsvoorsprong.nl
SUMMARY:Vraagbijeenkomst
DESCRIPTION:Vraagbijeenkomst: we bespreken in deze bijeenkomst van een uur de vragen of casussen van elke deelnemer die wat wil inbrengen. \n  \nAl onze cursisten zijn hier welkom. De zoomlink wordt vooraf gemaild.
URL:https://expertgroepontwikkelingsvoorsprong.nl/bijeenkomst/vraagbijeenkomst-4/
LOCATION:Online
CATEGORIES:Vraagbijeenkomst
ORGANIZER;CN="Expertgroep Ontwikkelingsvoorsprong":MAILTO:info@expertgroepontwikkelingsvoorsprong.nl
END:VEVENT
BEGIN:VEVENT
DTSTART;TZID=Europe/Amsterdam:20250908T160000
DTEND;TZID=Europe/Amsterdam:20250908T170000
DTSTAMP:20260421T065143
CREATED:20250424T152506Z
LAST-MODIFIED:20250424T152506Z
UID:11262-1757347200-1757350800@expertgroepontwikkelingsvoorsprong.nl
SUMMARY:Vraagbijeenkomst
DESCRIPTION:Vraagbijeenkomst: we bespreken in deze bijeenkomst van een uur de vragen of casussen van elke deelnemer die wat wil inbrengen. \n  \nAl onze cursisten zijn hier welkom. De zoomlink wordt vooraf gemaild.
URL:https://expertgroepontwikkelingsvoorsprong.nl/bijeenkomst/vraagbijeenkomst-3/
LOCATION:Online
CATEGORIES:Vraagbijeenkomst
ORGANIZER;CN="Expertgroep Ontwikkelingsvoorsprong":MAILTO:info@expertgroepontwikkelingsvoorsprong.nl
END:VEVENT
BEGIN:VEVENT
DTSTART;TZID=Europe/Amsterdam:20250630T190000
DTEND;TZID=Europe/Amsterdam:20250630T200000
DTSTAMP:20260421T065143
CREATED:20250421T215111Z
LAST-MODIFIED:20250424T152307Z
UID:11183-1751310000-1751313600@expertgroepontwikkelingsvoorsprong.nl
SUMMARY:Vraagbijeenkomst
DESCRIPTION:Vraagbijeenkomst: we bespreken in deze bijeenkomst van een uur de vragen of casussen van elke deelnemer die wat wil inbrengen. \n  \nAl onze cursisten zijn hier welkom. De zoomlink wordt vooraf gemaild.
URL:https://expertgroepontwikkelingsvoorsprong.nl/bijeenkomst/vraagbijeenkomst-2/
LOCATION:Online
CATEGORIES:Vraagbijeenkomst
ORGANIZER;CN="Expertgroep Ontwikkelingsvoorsprong":MAILTO:info@expertgroepontwikkelingsvoorsprong.nl
END:VEVENT
BEGIN:VEVENT
DTSTART;TZID=Europe/Amsterdam:20250515T160000
DTEND;TZID=Europe/Amsterdam:20250515T173000
DTSTAMP:20260421T065143
CREATED:20250421T214212Z
LAST-MODIFIED:20250424T151909Z
UID:11173-1747324800-1747330200@expertgroepontwikkelingsvoorsprong.nl
SUMMARY:Vraagbijeenkomst
DESCRIPTION:Vraagbijeenkomst: we bespreken in deze bijeenkomst van een uur de vragen of casussen van elke deelnemer die wat wil inbrengen. \n  \nAl onze cursisten zijn hier welkom. De zoomlink wordt vooraf gemaild.
URL:https://expertgroepontwikkelingsvoorsprong.nl/bijeenkomst/vraagbijeenkomst/
LOCATION:Online
CATEGORIES:Vraagbijeenkomst
ORGANIZER;CN="Expertgroep Ontwikkelingsvoorsprong":MAILTO:info@expertgroepontwikkelingsvoorsprong.nl
END:VEVENT
END:VCALENDAR